BEGIN:VCALENDAR
VERSION:2.0
PRODID:-//Beckenham Concert Band - ECPv5.7.0//NONSGML v1.0//EN
CALSCALE:GREGORIAN
METHOD:PUBLISH
X-WR-CALNAME:Beckenham Concert Band
X-ORIGINAL-URL:https://www.beckenhamconcertband.com
X-WR-CALDESC:Events for Beckenham Concert Band
BEGIN:VTIMEZONE
TZID:UTC
BEGIN:STANDARD
TZOFFSETFROM:+0000
TZOFFSETTO:+0000
TZNAME:UTC
DTSTART:20240101T000000
END:STANDARD
END:VTIMEZONE
BEGIN:VEVENT
DTSTART;TZID=UTC:20241206T170000
DTEND;TZID=UTC:20241206T183000
DTSTAMP:20260419T173906
CREATED:20241119T140042Z
LAST-MODIFIED:20241119T140132Z
UID:1128-1733504400-1733509800@www.beckenhamconcertband.com
SUMMARY:Switching on of Beckenham Christmas Lights 2024
DESCRIPTION:The band will play from 5pm with the big switch on timed for 5.30pm. \nSt Christopher’s School Children’s Choir will sing some carols too. \nLocation: Beckenham Green – next to St George’s Church: BR3 5JG.
URL:https://www.beckenhamconcertband.com/concert/switching-on-of-beckenham-christmas-lights-2024/
LOCATION:Beckenham Green\, High St\, Beckenham\, Kent\, BR3 5JG
END:VEVENT
END:VCALENDAR