BEGIN:VCALENDAR
VERSION:2.0
PRODID:-//Beckenham Concert Band - ECPv5.7.0//NONSGML v1.0//EN
CALSCALE:GREGORIAN
METHOD:PUBLISH
X-WR-CALNAME:Beckenham Concert Band
X-ORIGINAL-URL:https://www.beckenhamconcertband.com
X-WR-CALDESC:Events for Beckenham Concert Band
BEGIN:VTIMEZONE
TZID:UTC
BEGIN:STANDARD
TZOFFSETFROM:+0000
TZOFFSETTO:+0000
TZNAME:UTC
DTSTART:20240101T000000
END:STANDARD
END:VTIMEZONE
BEGIN:VEVENT
DTSTART;TZID=UTC:20241116T180000
DTEND;TZID=UTC:20241116T200000
DTSTAMP:20260419T173228
CREATED:20240903T100943Z
LAST-MODIFIED:20240903T101010Z
UID:1073-1731780000-1731787200@www.beckenhamconcertband.com
SUMMARY:Starfish Malawi Benefit Concert - Orpington
DESCRIPTION: 
URL:https://www.beckenhamconcertband.com/concert/starfish-malawi-benefit-concert-orpington/
LOCATION:Unity Church\, Rye Crescent\, Orpington\, BR5 4NH\, United Kingdom
CATEGORIES:concerts
END:VEVENT
END:VCALENDAR