BEGIN:VCALENDAR
VERSION:2.0
PRODID:-//Beckenham Concert Band - ECPv5.7.0//NONSGML v1.0//EN
CALSCALE:GREGORIAN
METHOD:PUBLISH
X-WR-CALNAME:Beckenham Concert Band
X-ORIGINAL-URL:https://www.beckenhamconcertband.com
X-WR-CALDESC:Events for Beckenham Concert Band
BEGIN:VTIMEZONE
TZID:UTC
BEGIN:STANDARD
TZOFFSETFROM:+0000
TZOFFSETTO:+0000
TZNAME:UTC
DTSTART:20230101T000000
END:STANDARD
END:VTIMEZONE
BEGIN:VEVENT
DTSTART;TZID=UTC:20230508T121500
DTEND;TZID=UTC:20230508T141500
DTSTAMP:20260419T185419
CREATED:20230315T213751Z
LAST-MODIFIED:20230429T173916Z
UID:895-1683548100-1683555300@www.beckenhamconcertband.com
SUMMARY:Coronation Lunch @Kings Meadow\, Bromley
DESCRIPTION:The band will perform for the Coronation Lunch at King’s Meadow on Bank Holiday Monday 8th May\, 2023 at 1215pm \nFree Entry – Stalls available for food and refreshments \n 
URL:https://www.beckenhamconcertband.com/concert/coronation-lunch-kings-meadow-bromley/
LOCATION:King’s Meadow\, 86 Milk Street\, Bromley\, BR1 5AD\, United Kingdom
CATEGORIES:concerts
END:VEVENT
END:VCALENDAR