BEGIN:VCALENDAR
VERSION:2.0
PRODID:-//Beckenham Concert Band - ECPv5.7.0//NONSGML v1.0//EN
CALSCALE:GREGORIAN
METHOD:PUBLISH
X-WR-CALNAME:Beckenham Concert Band
X-ORIGINAL-URL:https://www.beckenhamconcertband.com
X-WR-CALDESC:Events for Beckenham Concert Band
BEGIN:VTIMEZONE
TZID:UTC
BEGIN:STANDARD
TZOFFSETFROM:+0000
TZOFFSETTO:+0000
TZNAME:UTC
DTSTART:20230101T000000
END:STANDARD
END:VTIMEZONE
BEGIN:VEVENT
DTSTART;TZID=UTC:20230617T180000
DTEND;TZID=UTC:20230617T200000
DTSTAMP:20260419T201012
CREATED:20230315T214411Z
LAST-MODIFIED:20230429T173646Z
UID:897-1687024800-1687032000@www.beckenhamconcertband.com
SUMMARY:Coronation Concert: Royal Free (Hospital) Choir & Concert Band @ St Peter's Church\, Streatham
DESCRIPTION:The Beckenham Concert Band with The Royal Free (Hospital) Music Society Choir. \nEntry by ticket (£10 (£5 conc) and children free) with collection for the Royal Free NHS Trust. \nTickets can be purchased online from midday Weds 17th May here
URL:https://www.beckenhamconcertband.com/concert/coronation-concert-royal-free-hospital-choir-concert-band-st-peters-church-streatham/
LOCATION:St Peter’s Church\, Streatham\, Leigham Court Road\, Streatham\, Streatham\, London\, SW16 2SD\, United Kingdom
CATEGORIES:concerts
ORGANIZER;CN="St%20Peter%27s%20Church%20Streatham":MAILTO:mailto:concerts@stpeters-streatham.org
END:VEVENT
END:VCALENDAR