BEGIN:VCALENDAR
VERSION:2.0
PRODID:-//Beckenham Concert Band - ECPv5.7.0//NONSGML v1.0//EN
CALSCALE:GREGORIAN
METHOD:PUBLISH
X-WR-CALNAME:Beckenham Concert Band
X-ORIGINAL-URL:https://www.beckenhamconcertband.com
X-WR-CALDESC:Events for Beckenham Concert Band
BEGIN:VTIMEZONE
TZID:UTC
BEGIN:STANDARD
TZOFFSETFROM:+0000
TZOFFSETTO:+0000
TZNAME:UTC
DTSTART:20230101T000000
END:STANDARD
END:VTIMEZONE
BEGIN:VEVENT
DTSTART;TZID=UTC:20230604T150000
DTEND;TZID=UTC:20230604T163000
DTSTAMP:20260419T185501
CREATED:20221206T105635Z
LAST-MODIFIED:20221206T105635Z
UID:873-1685890800-1685896200@www.beckenhamconcertband.com
SUMMARY:Concert on Eastbourne Bandstand
DESCRIPTION:Sunday 4th June: Bandstand Concert at Eastbourne on the refurbished bandstand at 3pm
URL:https://www.beckenhamconcertband.com/concert/concert-on-eastbourne-bandstand/
LOCATION:Eastbourne Bandstand\, Grand Parade\, Eastbourne\, BN21 3AD\, United Kingdom
CATEGORIES:concerts
END:VEVENT
END:VCALENDAR