BEGIN:VCALENDAR
VERSION:2.0
PRODID:-//Beckenham Concert Band - ECPv5.7.0//NONSGML v1.0//EN
CALSCALE:GREGORIAN
METHOD:PUBLISH
X-WR-CALNAME:Beckenham Concert Band
X-ORIGINAL-URL:https://www.beckenhamconcertband.com
X-WR-CALDESC:Events for Beckenham Concert Band
BEGIN:VTIMEZONE
TZID:UTC
BEGIN:STANDARD
TZOFFSETFROM:+0000
TZOFFSETTO:+0000
TZNAME:UTC
DTSTART:20230101T000000
END:STANDARD
END:VTIMEZONE
BEGIN:VEVENT
DTSTART;TZID=UTC:20230701T143000
DTEND;TZID=UTC:20230701T160000
DTSTAMP:20260419T201020
CREATED:20221206T105949Z
LAST-MODIFIED:20221206T105949Z
UID:876-1688221800-1688227200@www.beckenhamconcertband.com
SUMMARY:Concert on Broadstairs Bandstand
DESCRIPTION:Concert on Broadstairs Bandstand at 2.30pm on Saturday 1st July\, 2023.  Free Entry.
URL:https://www.beckenhamconcertband.com/concert/concert-on-broadstairs-bandstand/
LOCATION:Broadstairs Bandstand\, Victoria Parade\, Broadstairs\, CT10 1QS
CATEGORIES:concerts
END:VEVENT
END:VCALENDAR