BEGIN:VCALENDAR
VERSION:2.0
PRODID:-//Beckenham Concert Band - ECPv5.7.0//NONSGML v1.0//EN
CALSCALE:GREGORIAN
METHOD:PUBLISH
X-WR-CALNAME:Beckenham Concert Band
X-ORIGINAL-URL:https://www.beckenhamconcertband.com
X-WR-CALDESC:Events for Beckenham Concert Band
BEGIN:VTIMEZONE
TZID:UTC
BEGIN:STANDARD
TZOFFSETFROM:+0000
TZOFFSETTO:+0000
TZNAME:UTC
DTSTART:20230101T000000
END:STANDARD
END:VTIMEZONE
BEGIN:VEVENT
DTSTART;TZID=UTC:20230311T180000
DTEND;TZID=UTC:20230311T200000
DTSTAMP:20260419T185730
CREATED:20221021T104009Z
LAST-MODIFIED:20230124T173316Z
UID:849-1678557600-1678564800@www.beckenhamconcertband.com
SUMMARY:Concert at St George's Church Beckenham (NOTE TIME)
DESCRIPTION:A celebration of popular classics including music by Andrew Lloyd Webber\, George Gershwin\, Vaughan Williams\, Tchaikovsky and more. \nFree entry with retiring collection in support of The Living Well Food Bank – Bromley.
URL:https://www.beckenhamconcertband.com/concert/concert-at-st-georges-church-beckenham/
LOCATION:St George’s Church\, Beckenham\, High Street\, Beckenham\, BR3 1AX
CATEGORIES:concerts
END:VEVENT
END:VCALENDAR