BEGIN:VCALENDAR
VERSION:2.0
PRODID:-//Beckenham Concert Band - ECPv5.7.0//NONSGML v1.0//EN
CALSCALE:GREGORIAN
METHOD:PUBLISH
X-WR-CALNAME:Beckenham Concert Band
X-ORIGINAL-URL:https://www.beckenhamconcertband.com
X-WR-CALDESC:Events for Beckenham Concert Band
BEGIN:VTIMEZONE
TZID:UTC
BEGIN:STANDARD
TZOFFSETFROM:+0000
TZOFFSETTO:+0000
TZNAME:UTC
DTSTART:20230101T000000
END:STANDARD
END:VTIMEZONE
BEGIN:VEVENT
DTSTART;TZID=UTC:20230723T150000
DTEND;TZID=UTC:20230723T163000
DTSTAMP:20260419T200839
CREATED:20230703T100339Z
LAST-MODIFIED:20230703T100339Z
UID:937-1690124400-1690129800@www.beckenhamconcertband.com
SUMMARY:Concert at Alexandra Recreation Ground - Music in the Park 2023
DESCRIPTION:The Band will play a concert at Alexandra Recreation Ground for Music in the Park 2023 on Sunday 23rd July.  The event starts at 2pm\, the band will play from 3pm when the Mayor of Bromley will open the event. \n  \n 
URL:https://www.beckenhamconcertband.com/concert/concert-at-alexandra-recreation-ground-music-in-the-park-2023/
LOCATION:Alexandra Recreation Ground\, Alexandra Road\, Penge\, SE26 5NL\, United Kingdom
CATEGORIES:concerts
END:VEVENT
END:VCALENDAR