BEGIN:VCALENDAR
VERSION:2.0
PRODID:-//Beckenham Concert Band - ECPv5.7.0//NONSGML v1.0//EN
CALSCALE:GREGORIAN
METHOD:PUBLISH
X-WR-CALNAME:Beckenham Concert Band
X-ORIGINAL-URL:https://www.beckenhamconcertband.com
X-WR-CALDESC:Events for Beckenham Concert Band
BEGIN:VTIMEZONE
TZID:UTC
BEGIN:STANDARD
TZOFFSETFROM:+0000
TZOFFSETTO:+0000
TZNAME:UTC
DTSTART:20220101T000000
END:STANDARD
END:VTIMEZONE
BEGIN:VEVENT
DTSTART;TZID=UTC:20221203T193000
DTEND;TZID=UTC:20221203T213000
DTSTAMP:20260419T185629
CREATED:20221021T101757Z
LAST-MODIFIED:20221021T101757Z
UID:840-1670095800-1670103000@www.beckenhamconcertband.com
SUMMARY:Christmas Concert at St Mark's Church\, Biggin Hill
DESCRIPTION:The band will perform a Christmas Concert at St Mark’s Church\, Biggin Hill to raise funds for St Christopher’s Hospice. \nFree entry with retiring collection for St Christopher’s \nA concert for all the family in this lovely church and to raise money for such an important cause.  A great start to Christmas!
URL:https://www.beckenhamconcertband.com/concert/christmas-concert-at-st-marks-church-biggin-hill/
LOCATION:St Mark’s Church\, Biggin Hill\, 10 Church Rd\, Biggin Hill\, TN16 3LB\, United Kingdom
CATEGORIES:concerts
END:VEVENT
END:VCALENDAR