BEGIN:VCALENDAR
VERSION:2.0
PRODID:-//Beckenham Concert Band - ECPv5.7.0//NONSGML v1.0//EN
CALSCALE:GREGORIAN
METHOD:PUBLISH
X-WR-CALNAME:Beckenham Concert Band
X-ORIGINAL-URL:https://www.beckenhamconcertband.com
X-WR-CALDESC:Events for Beckenham Concert Band
BEGIN:VTIMEZONE
TZID:UTC
BEGIN:STANDARD
TZOFFSETFROM:+0000
TZOFFSETTO:+0000
TZNAME:UTC
DTSTART:20230101T000000
END:STANDARD
END:VTIMEZONE
BEGIN:VEVENT
DTSTART;TZID=UTC:20231210T150000
DTEND;TZID=UTC:20231210T160000
DTSTAMP:20260419T174841
CREATED:20231128T150953Z
LAST-MODIFIED:20231128T150953Z
UID:1002-1702220400-1702224000@www.beckenhamconcertband.com
SUMMARY:Alexandra Recreation Ground\, Penge: Carols in the Park
DESCRIPTION:The band will play carols and festive music at Alexandra Recreation Ground\, \nThis is a great family event and a great oppportunity to come and sample some pre-Christmas goodies\, mulled wince etc\, and to sing along to some carols (words provided!). \nFree Entry.
URL:https://www.beckenhamconcertband.com/concert/alexandra-recreation-ground-penge-carols-in-the-park/
LOCATION:Alexandra Recreation Ground\, Alexandra Road\, Penge\, SE26 5NL\, United Kingdom
CATEGORIES:concerts
END:VEVENT
END:VCALENDAR